Package: JASPAR2022 Version: 0.99.8 Command: /home/biocbuild/bbs-3.21-bioc/R/bin/R CMD build --keep-empty-dirs --no-resave-data JASPAR2022 StartedAt: 2025-02-05 06:31:59 -0500 (Wed, 05 Feb 2025) EndedAt: 2025-02-05 06:32:23 -0500 (Wed, 05 Feb 2025) EllapsedTime: 24.1 seconds RetCode: 0 Status: OK PackageFile: JASPAR2022_0.99.8.tar.gz PackageFileSize: 276 KiB