Package: EuPathDB Version: 1.0.1 Command: /home/biocbuild/bbs-3.21-bioc/R/bin/R CMD INSTALL EuPathDB StartedAt: 2025-04-30 06:30:22 -0400 (Wed, 30 Apr 2025) EndedAt: 2025-04-30 06:30:57 -0400 (Wed, 30 Apr 2025) EllapsedTime: 35.7 seconds RetCode: 0 Status: OK