Package: EuPathDB Version: 1.0.1 Command: /home/biocbuild/bbs-3.21-bioc/R/bin/R CMD build --keep-empty-dirs --no-resave-data EuPathDB StartedAt: 2025-02-05 06:31:22 -0500 (Wed, 05 Feb 2025) EndedAt: 2025-02-05 06:32:16 -0500 (Wed, 05 Feb 2025) EllapsedTime: 53.7 seconds RetCode: 1 Status: ERROR PackageFile: None PackageFileSize: NA