Package: EpiTxDb.Mm.mm10 Version: 0.99.6 Command: /home/biocbuild/bbs-3.21-bioc/R/bin/R CMD INSTALL EpiTxDb.Mm.mm10 StartedAt: 2025-02-19 06:30:26 -0500 (Wed, 19 Feb 2025) EndedAt: 2025-02-19 06:31:04 -0500 (Wed, 19 Feb 2025) EllapsedTime: 37.2 seconds RetCode: 0 Status: OK