Package: ENCODExplorerData Version: 0.99.5 Command: /home/biocbuild/bbs-3.21-bioc/R/bin/R CMD INSTALL ENCODExplorerData StartedAt: 2025-07-23 06:30:07 -0400 (Wed, 23 Jul 2025) EndedAt: 2025-07-23 06:30:10 -0400 (Wed, 23 Jul 2025) EllapsedTime: 3.1 seconds RetCode: 0 Status: OK