Package: ENCODExplorerData Version: 0.99.5 Command: /home/biocbuild/bbs-3.21-bioc/R/bin/R CMD check --install=check:ENCODExplorerData.install-out.txt --library=/home/biocbuild/bbs-3.21-bioc/R/site-library --timings ENCODExplorerData_0.99.5.tar.gz StartedAt: 2025-02-05 06:33:36 -0500 (Wed, 05 Feb 2025) EndedAt: 2025-02-05 06:36:12 -0500 (Wed, 05 Feb 2025) EllapsedTime: 156.6 seconds RetCode: 0 Status: OK CheckDir: ENCODExplorerData.Rcheck Warnings: 0