Package: BioMartGOGeneSets Version: 0.99.11 Command: /home/biocbuild/bbs-3.21-bioc/R/bin/R CMD check --install=check:BioMartGOGeneSets.install-out.txt --library=/home/biocbuild/bbs-3.21-bioc/R/site-library --timings BioMartGOGeneSets_0.99.11.tar.gz StartedAt: 2025-02-12 06:33:37 -0500 (Wed, 12 Feb 2025) EndedAt: 2025-02-12 06:35:58 -0500 (Wed, 12 Feb 2025) EllapsedTime: 140.3 seconds RetCode: 0 Status: OK CheckDir: BioMartGOGeneSets.Rcheck Warnings: 0