Package: AlphaMissense.v2023.hg19 Version: 3.18.2 Command: /home/biocbuild/bbs-3.21-bioc/R/bin/R CMD build --keep-empty-dirs --no-resave-data AlphaMissense.v2023.hg19 StartedAt: 2025-02-12 06:31:11 -0500 (Wed, 12 Feb 2025) EndedAt: 2025-02-12 06:31:59 -0500 (Wed, 12 Feb 2025) EllapsedTime: 48.6 seconds RetCode: 0 Status: OK PackageFile: AlphaMissense.v2023.hg19_3.18.2.tar.gz PackageFileSize: 299.9 KiB