Package: AHWikipathwaysDbs Version: 0.99.4 Command: /home/biocbuild/bbs-3.21-bioc/R/bin/R CMD INSTALL AHWikipathwaysDbs StartedAt: 2025-02-19 06:30:10 -0500 (Wed, 19 Feb 2025) EndedAt: 2025-02-19 06:30:19 -0500 (Wed, 19 Feb 2025) EllapsedTime: 8.7 seconds RetCode: 0 Status: OK