Package: AHWikipathwaysDbs Version: 0.99.4 Command: /home/biocbuild/bbs-3.21-bioc/R/bin/R CMD build --keep-empty-dirs --no-resave-data AHWikipathwaysDbs StartedAt: 2025-02-19 06:31:09 -0500 (Wed, 19 Feb 2025) EndedAt: 2025-02-19 06:31:33 -0500 (Wed, 19 Feb 2025) EllapsedTime: 24.4 seconds RetCode: 0 Status: OK PackageFile: AHWikipathwaysDbs_0.99.4.tar.gz PackageFileSize: 295 KiB