Package: AHPathbankDbs Version: 0.99.5 Command: /home/biocbuild/bbs-3.21-bioc/R/bin/R CMD INSTALL AHPathbankDbs StartedAt: 2025-04-30 06:30:11 -0400 (Wed, 30 Apr 2025) EndedAt: 2025-04-30 06:30:20 -0400 (Wed, 30 Apr 2025) EllapsedTime: 9.1 seconds RetCode: 0 Status: OK