Package: AHCytoBands Version: 0.99.1 Command: /home/biocbuild/bbs-3.21-bioc/R/bin/R CMD check --install=check:AHCytoBands.install-out.txt --library=/home/biocbuild/bbs-3.21-bioc/R/site-library --timings AHCytoBands_0.99.1.tar.gz StartedAt: 2025-04-30 06:33:32 -0400 (Wed, 30 Apr 2025) EndedAt: 2025-04-30 06:33:40 -0400 (Wed, 30 Apr 2025) EllapsedTime: 8.3 seconds RetCode: 0 Status: OK CheckDir: AHCytoBands.Rcheck Warnings: 0