Package: AHCytoBands Version: 0.99.1 Command: /home/biocbuild/bbs-3.21-bioc/R/bin/R CMD build --keep-empty-dirs --no-resave-data AHCytoBands StartedAt: 2025-02-05 06:31:09 -0500 (Wed, 05 Feb 2025) EndedAt: 2025-02-05 06:31:10 -0500 (Wed, 05 Feb 2025) EllapsedTime: 1.0 seconds RetCode: 0 Status: OK PackageFile: AHCytoBands_0.99.1.tar.gz PackageFileSize: 2.041 KiB