Back to Books build report for BioC 3.21

This page was generated on 2025-04-28 14:30 -0400 (Mon, 28 Apr 2025).

HostnameOSArch (*)R versionInstalled pkgs
nebbiolo1Linux (Ubuntu 24.04.1 LTS)x86_644.5.0 RC (2025-04-04 r88126) -- "How About a Twenty-Six" 4832
Click on any hostname to see more info about the system (e.g. compilers)      (*) as reported by 'uname -p', except on Windows and Mac OS X

All results for package csawBook


To the developers/maintainers of the csawBook package:
- Use the following Renviron settings to reproduce errors and warnings.
- If 'R CMD check' started to fail recently on the Linux builder(s) over a missing dependency, add the missing dependency to 'Suggests:' in your DESCRIPTION file. See Renviron.bioc for more information.

raw results

Package 2/10HostnameOS / ArchINSTALLBUILDCHECK
csawBook 1.16.0  (landing page)
Aaron Lun
Snapshot Date: 2025-04-28 10:00 -0400 (Mon, 28 Apr 2025)
git_url: https://git.bioconductor.org/packages/csawBook
git_branch: RELEASE_3_21
git_last_commit: f04b437
git_last_commit_date: 2025-04-15 10:47:11 -0400 (Tue, 15 Apr 2025)
nebbiolo1Linux (Ubuntu 24.04.1 LTS) / x86_64  OK    OK    OK  UNNEEDED, same version is already published