Package: SingleRBook Version: 1.17.1 Command: /home/biocbuild/bbs-3.21-bioc/R/bin/R CMD INSTALL SingleRBook StartedAt: 2025-02-05 10:15:07 -0500 (Wed, 05 Feb 2025) EndedAt: 2025-02-05 10:15:40 -0500 (Wed, 05 Feb 2025) EllapsedTime: 33.0 seconds RetCode: 0 Status: OK