Package: OSCA Version: 1.18.0 Command: rm -rf OSCA.book && mkdir OSCA.book && /home/biocbuild/BBS/utils/deploy_book.py OSCA_1.18.0.tar.gz OSCA.book StartedAt: 2025-05-19 12:32:28 -0400 (Mon, 19 May 2025) EndedAt: 2025-05-19 12:32:30 -0400 (Mon, 19 May 2025) EllapsedTime: 1.9 seconds RetCode: 0 Status: OK DeployDestDir: OSCA.book Warnings: 0