Package: OSCA Version: 1.18.0 Command: /home/biocbuild/bbs-3.21-bioc/R/bin/R CMD build --keep-empty-dirs --no-resave-data OSCA StartedAt: 2025-04-30 10:17:06 -0400 (Wed, 30 Apr 2025) EndedAt: 2025-04-30 10:17:21 -0400 (Wed, 30 Apr 2025) EllapsedTime: 14.0 seconds RetCode: 0 Status: OK PackageFile: OSCA_1.18.0.tar.gz PackageFileSize: 432.6 KiB