Package: OSCA.workflows Version: 1.15.3 Command: /home/biocbuild/bbs-3.21-bioc/R/bin/R CMD INSTALL OSCA.workflows StartedAt: 2025-01-29 10:15:07 -0500 (Wed, 29 Jan 2025) EndedAt: 2025-01-29 10:15:45 -0500 (Wed, 29 Jan 2025) EllapsedTime: 38.0 seconds RetCode: 0 Status: OK