Package: OSCA.workflows Version: 1.15.3 Command: rm -rf OSCA.workflows.book && mkdir OSCA.workflows.book && /home/biocbuild/BBS/utils/deploy_book.py OSCA.workflows_1.15.3.tar.gz OSCA.workflows.book StartedAt: 2025-01-29 11:54:16 -0500 (Wed, 29 Jan 2025) EndedAt: 2025-01-29 11:54:19 -0500 (Wed, 29 Jan 2025) EllapsedTime: 2.8 seconds RetCode: 0 Status: OK DeployDestDir: OSCA.workflows.book Warnings: 0