Package: OSCA.workflows Version: 1.15.3 Command: /home/biocbuild/bbs-3.21-bioc/R/bin/R CMD build --keep-empty-dirs --no-resave-data OSCA.workflows StartedAt: 2025-01-29 10:17:22 -0500 (Wed, 29 Jan 2025) EndedAt: 2025-01-29 11:27:05 -0500 (Wed, 29 Jan 2025) EllapsedTime: 4182.5 seconds RetCode: 0 Status: OK PackageFile: OSCA.workflows_1.15.3.tar.gz PackageFileSize: 17.18 MiB