Package: zlibbioc Version: 1.53.0 Command: /home/rapidbuild/bbs-3.21-bioc-rapid/R/bin/R CMD build --keep-empty-dirs --no-resave-data zlibbioc StartedAt: 2025-02-21 13:35:33 -0500 (Fri, 21 Feb 2025) EndedAt: 2025-02-21 13:35:37 -0500 (Fri, 21 Feb 2025) EllapsedTime: 4.0 seconds RetCode: 0 Status: OK PackageFile: zlibbioc_1.53.0.tar.gz PackageFileSize: 373.8 KiB