Package: zellkonverter Version: 1.17.0 Command: /home/rapidbuild/bbs-3.21-bioc-rapid/R/bin/R CMD check --install=check:zellkonverter.install-out.txt --library=/home/rapidbuild/bbs-3.21-bioc-rapid/R/site-library --timings zellkonverter_1.17.0.tar.gz StartedAt: 2025-02-21 15:20:52 -0500 (Fri, 21 Feb 2025) EndedAt: 2025-02-21 15:28:13 -0500 (Fri, 21 Feb 2025) EllapsedTime: 441.6 seconds RetCode: 0 Status: OK CheckDir: zellkonverter.Rcheck Warnings: 0