Package: xcms Version: 4.5.2 Command: /home/rapidbuild/bbs-3.21-bioc-rapid/R/bin/R CMD INSTALL xcms StartedAt: 2025-02-13 12:22:34 -0500 (Thu, 13 Feb 2025) EndedAt: 2025-02-13 12:23:53 -0500 (Thu, 13 Feb 2025) EllapsedTime: 78.7 seconds RetCode: 0 Status: OK