Package: xcms Version: 4.5.2 Command: /home/rapidbuild/bbs-3.21-bioc-rapid/R/bin/R CMD build --keep-empty-dirs --no-resave-data xcms StartedAt: 2025-02-13 13:35:37 -0500 (Thu, 13 Feb 2025) EndedAt: 2025-02-13 13:39:29 -0500 (Thu, 13 Feb 2025) EllapsedTime: 232.4 seconds RetCode: 0 Status: OK PackageFile: xcms_4.5.2.tar.gz PackageFileSize: 9.434 MiB