Package: tximeta Version: 1.25.2 Command: /home/rapidbuild/bbs-3.21-bioc-rapid/R/bin/R CMD INSTALL tximeta StartedAt: 2025-02-13 12:25:14 -0500 (Thu, 13 Feb 2025) EndedAt: 2025-02-13 12:25:48 -0500 (Thu, 13 Feb 2025) EllapsedTime: 34.2 seconds RetCode: 0 Status: OK