Package: tximeta Version: 1.25.2 Command: /home/rapidbuild/bbs-3.21-bioc-rapid/R/bin/R CMD build --keep-empty-dirs --no-resave-data tximeta StartedAt: 2025-02-10 07:45:40 -0500 (Mon, 10 Feb 2025) EndedAt: 2025-02-10 07:47:09 -0500 (Mon, 10 Feb 2025) EllapsedTime: 89.3 seconds RetCode: 0 Status: OK PackageFile: tximeta_1.25.2.tar.gz PackageFileSize: 1.332 MiB