Package: snifter Version: 1.17.0 Command: /home/rapidbuild/bbs-3.21-bioc-rapid/R/bin/R CMD build --keep-empty-dirs --no-resave-data snifter StartedAt: 2025-02-13 13:29:59 -0500 (Thu, 13 Feb 2025) EndedAt: 2025-02-13 13:30:26 -0500 (Thu, 13 Feb 2025) EllapsedTime: 27.0 seconds RetCode: 0 Status: OK PackageFile: snifter_1.17.0.tar.gz PackageFileSize: 716.4 KiB