Package: sesame Version: 1.25.3 Command: /home/rapidbuild/bbs-3.21-bioc-rapid/R/bin/R CMD INSTALL sesame StartedAt: 2025-02-21 12:18:34 -0500 (Fri, 21 Feb 2025) EndedAt: 2025-02-21 12:19:03 -0500 (Fri, 21 Feb 2025) EllapsedTime: 29.0 seconds RetCode: 0 Status: OK