Package: sesame Version: 1.25.3 Command: /home/rapidbuild/bbs-3.21-bioc-rapid/R/bin/R CMD check --install=check:sesame.install-out.txt --library=/home/rapidbuild/bbs-3.21-bioc-rapid/R/site-library --timings sesame_1.25.3.tar.gz StartedAt: 2025-02-20 15:10:21 -0500 (Thu, 20 Feb 2025) EndedAt: 2025-02-20 15:23:17 -0500 (Thu, 20 Feb 2025) EllapsedTime: 775.6 seconds RetCode: 0 Status: OK CheckDir: sesame.Rcheck Warnings: 0