Package: sesame Version: 1.25.3 Command: /home/rapidbuild/bbs-3.21-bioc-rapid/R/bin/R CMD build --keep-empty-dirs --no-resave-data sesame StartedAt: 2025-02-21 13:25:41 -0500 (Fri, 21 Feb 2025) EndedAt: 2025-02-21 13:29:20 -0500 (Fri, 21 Feb 2025) EllapsedTime: 218.6 seconds RetCode: 0 Status: OK PackageFile: sesame_1.25.3.tar.gz PackageFileSize: 16.11 MiB