Package: scater Version: 1.35.1 Command: /home/rapidbuild/bbs-3.21-bioc-rapid/R/bin/R CMD INSTALL scater StartedAt: 2025-02-14 12:20:03 -0500 (Fri, 14 Feb 2025) EndedAt: 2025-02-14 12:20:25 -0500 (Fri, 14 Feb 2025) EllapsedTime: 22.6 seconds RetCode: 0 Status: OK