Package: rpx Version: 2.15.1 Command: /home/rapidbuild/bbs-3.21-bioc-rapid/R/bin/R CMD build --keep-empty-dirs --no-resave-data rpx StartedAt: 2025-02-18 07:33:29 -0500 (Tue, 18 Feb 2025) EndedAt: 2025-02-18 07:33:43 -0500 (Tue, 18 Feb 2025) EllapsedTime: 14.0 seconds RetCode: 0 Status: OK PackageFile: rpx_2.15.1.tar.gz PackageFileSize: 316.9 KiB