Package: rhdf5filters Version: 1.19.1 Maintainer: Mike Smith MaintainerEmail: grimbough at gmail.com git_url: https://git.bioconductor.org/packages/rhdf5filters git_branch: devel git_last_commit: d86ecee git_last_commit_date: 2025-02-11 05:40:47 -0500 (Tue, 11 Feb 2025)