Package: rhdf5 Version: 2.51.2 Command: /home/rapidbuild/bbs-3.21-bioc-rapid/R/bin/R CMD check --install=check:rhdf5.install-out.txt --library=/home/rapidbuild/bbs-3.21-bioc-rapid/R/site-library --timings rhdf5_2.51.2.tar.gz StartedAt: 2025-02-14 14:49:43 -0500 (Fri, 14 Feb 2025) EndedAt: 2025-02-14 14:54:22 -0500 (Fri, 14 Feb 2025) EllapsedTime: 278.5 seconds RetCode: 0 Status: WARNINGS CheckDir: rhdf5.Rcheck Warnings: 1