Package: rBiopaxParser Version: 2.47.0 Command: /home/rapidbuild/bbs-3.21-bioc-rapid/R/bin/R CMD INSTALL rBiopaxParser StartedAt: 2025-02-18 06:10:48 -0500 (Tue, 18 Feb 2025) EndedAt: 2025-02-18 06:10:52 -0500 (Tue, 18 Feb 2025) EllapsedTime: 4.0 seconds RetCode: 0 Status: OK