Package: phyloseq Version: 1.51.0 Command: /home/rapidbuild/bbs-3.21-bioc-rapid/R/bin/R CMD check --install=check:phyloseq.install-out.txt --library=/home/rapidbuild/bbs-3.21-bioc-rapid/R/site-library --timings phyloseq_1.51.0.tar.gz StartedAt: 2025-02-10 09:18:24 -0500 (Mon, 10 Feb 2025) EndedAt: 2025-02-10 09:22:32 -0500 (Mon, 10 Feb 2025) EllapsedTime: 248.2 seconds RetCode: 0 Status: WARNINGS CheckDir: phyloseq.Rcheck Warnings: 1