Package: pathview Version: 1.47.0 Command: /home/rapidbuild/bbs-3.21-bioc-rapid/R/bin/R CMD INSTALL pathview StartedAt: 2025-02-14 12:20:38 -0500 (Fri, 14 Feb 2025) EndedAt: 2025-02-14 12:20:51 -0500 (Fri, 14 Feb 2025) EllapsedTime: 13.4 seconds RetCode: 0 Status: OK