Package: pathview Version: 1.47.0 Command: /home/rapidbuild/bbs-3.21-bioc-rapid/R/bin/R CMD check --install=check:pathview.install-out.txt --library=/home/rapidbuild/bbs-3.21-bioc-rapid/R/site-library --timings pathview_1.47.0.tar.gz StartedAt: 2025-02-15 14:54:11 -0500 (Sat, 15 Feb 2025) EndedAt: 2025-02-15 14:56:57 -0500 (Sat, 15 Feb 2025) EllapsedTime: 166.2 seconds RetCode: 0 Status: WARNINGS CheckDir: pathview.Rcheck Warnings: 1