Package: pRoloc Version: 1.47.1 Command: /home/rapidbuild/bbs-3.21-bioc-rapid/R/bin/R CMD INSTALL pRoloc StartedAt: 2025-02-13 12:23:16 -0500 (Thu, 13 Feb 2025) EndedAt: 2025-02-13 12:24:20 -0500 (Thu, 13 Feb 2025) EllapsedTime: 63.7 seconds RetCode: 0 Status: OK