Package: pRoloc Version: 1.47.1 Command: /home/rapidbuild/bbs-3.21-bioc-rapid/R/bin/R CMD check --install=check:pRoloc.install-out.txt --library=/home/rapidbuild/bbs-3.21-bioc-rapid/R/site-library --timings pRoloc_1.47.1.tar.gz StartedAt: 2025-02-13 14:52:43 -0500 (Thu, 13 Feb 2025) EndedAt: 2025-02-13 15:03:56 -0500 (Thu, 13 Feb 2025) EllapsedTime: 673.6 seconds RetCode: 0 Status: OK CheckDir: pRoloc.Rcheck Warnings: 0