Package: openCyto Version: 2.19.0 Command: /home/rapidbuild/bbs-3.21-bioc-rapid/R/bin/R CMD check --install=check:openCyto.install-out.txt --library=/home/rapidbuild/bbs-3.21-bioc-rapid/R/site-library --timings openCyto_2.19.0.tar.gz StartedAt: 2025-02-14 14:42:40 -0500 (Fri, 14 Feb 2025) EndedAt: 2025-02-14 14:44:58 -0500 (Fri, 14 Feb 2025) EllapsedTime: 138.1 seconds RetCode: 0 Status: WARNINGS CheckDir: openCyto.Rcheck Warnings: 4