Package: openCyto Version: 2.19.0 Command: /home/rapidbuild/bbs-3.21-bioc-rapid/R/bin/R CMD build --keep-empty-dirs --no-resave-data openCyto StartedAt: 2025-02-15 13:11:34 -0500 (Sat, 15 Feb 2025) EndedAt: 2025-02-15 13:12:32 -0500 (Sat, 15 Feb 2025) EllapsedTime: 58.3 seconds RetCode: 0 Status: OK PackageFile: openCyto_2.19.0.tar.gz PackageFileSize: 1.768 MiB