Package: ncdfFlow Version: 2.53.1 Command: /home/rapidbuild/bbs-3.21-bioc-rapid/R/bin/R CMD build --keep-empty-dirs --no-resave-data ncdfFlow StartedAt: 2025-02-10 07:20:15 -0500 (Mon, 10 Feb 2025) EndedAt: 2025-02-10 07:20:35 -0500 (Mon, 10 Feb 2025) EllapsedTime: 20.0 seconds RetCode: 0 Status: OK PackageFile: ncdfFlow_2.53.1.tar.gz PackageFileSize: 198.6 KiB