Package: mzR Version: 2.41.1 Command: /home/rapidbuild/bbs-3.21-bioc-rapid/R/bin/R CMD build --keep-empty-dirs --no-resave-data mzR StartedAt: 2025-02-10 07:19:46 -0500 (Mon, 10 Feb 2025) EndedAt: 2025-02-10 07:26:45 -0500 (Mon, 10 Feb 2025) EllapsedTime: 418.8 seconds RetCode: 0 Status: OK PackageFile: mzR_2.41.1.tar.gz PackageFileSize: 7.363 MiB