Package: mzR Version: 2.41.4 Maintainer: Steffen Neumann MaintainerEmail: sneumann at ipb-halle.de git_url: https://git.bioconductor.org/packages/mzR git_branch: devel git_last_commit: f9ec8cf git_last_commit_date: 2025-02-11 16:01:26 -0500 (Tue, 11 Feb 2025)