Package: mzID Version: 1.45.0 Command: /home/rapidbuild/bbs-3.21-bioc-rapid/R/bin/R CMD check --install=check:mzID.install-out.txt --library=/home/rapidbuild/bbs-3.21-bioc-rapid/R/site-library --timings mzID_1.45.0.tar.gz StartedAt: 2025-02-10 09:15:43 -0500 (Mon, 10 Feb 2025) EndedAt: 2025-02-10 09:16:10 -0500 (Mon, 10 Feb 2025) EllapsedTime: 26.6 seconds RetCode: 0 Status: OK CheckDir: mzID.Rcheck Warnings: 0