Package: multtest Version: 2.63.0 Command: /home/rapidbuild/bbs-3.21-bioc-rapid/R/bin/R CMD INSTALL multtest StartedAt: 2025-02-13 12:12:31 -0500 (Thu, 13 Feb 2025) EndedAt: 2025-02-13 12:12:41 -0500 (Thu, 13 Feb 2025) EllapsedTime: 10.7 seconds RetCode: 0 Status: OK