Package: microRNA Version: 1.65.1 Command: /home/rapidbuild/bbs-3.21-bioc-rapid/R/bin/R CMD INSTALL microRNA StartedAt: 2025-02-15 12:16:25 -0500 (Sat, 15 Feb 2025) EndedAt: 2025-02-15 12:16:35 -0500 (Sat, 15 Feb 2025) EllapsedTime: 9.4 seconds RetCode: 0 Status: OK