Package: lpsymphony Version: 1.35.0 Command: /home/rapidbuild/bbs-3.21-bioc-rapid/R/bin/R CMD INSTALL lpsymphony StartedAt: 2025-02-15 12:04:28 -0500 (Sat, 15 Feb 2025) EndedAt: 2025-02-15 12:11:00 -0500 (Sat, 15 Feb 2025) EllapsedTime: 392.2 seconds RetCode: 0 Status: OK