Package: lpsymphony Version: 1.35.0 Command: /home/rapidbuild/bbs-3.21-bioc-rapid/R/bin/R CMD build --keep-empty-dirs --no-resave-data lpsymphony StartedAt: 2025-02-14 12:59:52 -0500 (Fri, 14 Feb 2025) EndedAt: 2025-02-14 13:06:12 -0500 (Fri, 14 Feb 2025) EllapsedTime: 380.2 seconds RetCode: 0 Status: OK PackageFile: lpsymphony_1.35.0.tar.gz PackageFileSize: 11.86 MiB